BEGIN:VCALENDAR
VERSION:2.0
PRODID:-//Österreichischer Fachverband für historisches Fechten - ECPv6.15.18//NONSGML v1.0//EN
CALSCALE:GREGORIAN
METHOD:PUBLISH
X-ORIGINAL-URL:https://www.historischesfechten.at
X-WR-CALDESC:Veranstaltungen für Österreichischer Fachverband für historisches Fechten
REFRESH-INTERVAL;VALUE=DURATION:PT1H
X-Robots-Tag:noindex
X-PUBLISHED-TTL:PT1H
BEGIN:VTIMEZONE
TZID:Europe/Vienna
BEGIN:DAYLIGHT
TZOFFSETFROM:+0100
TZOFFSETTO:+0200
TZNAME:CEST
DTSTART:20250330T010000
END:DAYLIGHT
BEGIN:STANDARD
TZOFFSETFROM:+0200
TZOFFSETTO:+0100
TZNAME:CET
DTSTART:20251026T010000
END:STANDARD
BEGIN:DAYLIGHT
TZOFFSETFROM:+0100
TZOFFSETTO:+0200
TZNAME:CEST
DTSTART:20260329T010000
END:DAYLIGHT
BEGIN:STANDARD
TZOFFSETFROM:+0200
TZOFFSETTO:+0100
TZNAME:CET
DTSTART:20261025T010000
END:STANDARD
BEGIN:DAYLIGHT
TZOFFSETFROM:+0100
TZOFFSETTO:+0200
TZNAME:CEST
DTSTART:20270328T010000
END:DAYLIGHT
BEGIN:STANDARD
TZOFFSETFROM:+0200
TZOFFSETTO:+0100
TZNAME:CET
DTSTART:20271031T010000
END:STANDARD
END:VTIMEZONE
BEGIN:VEVENT
DTSTART;TZID=Europe/Vienna:20260919T080000
DTEND;TZID=Europe/Vienna:20260920T170000
DTSTAMP:20260421T205707
CREATED:20260308T100911Z
LAST-MODIFIED:20260313T201706Z
UID:10000014-1789804800-1789923600@www.historischesfechten.at
SUMMARY:Vindobona Bosch 2026
DESCRIPTION:SAVE THE DATE \n\n\n\nLangschwert\, Säbel\, Teambewerb
URL:https://www.historischesfechten.at/event/vindobona-bosch-2026/
CATEGORIES:Turnier
ATTACH;FMTTYPE=image/png:https://www.historischesfechten.at/wp-content/uploads/2026/03/vindobona_allg_4-3_weis.png
ORGANIZER;CN="Equinox":MAILTO:equinox.fechten@gmail.com
END:VEVENT
END:VCALENDAR