BEGIN:VCALENDAR
VERSION:2.0
PRODID:-//Österreichischer Fachverband für historisches Fechten - ECPv6.15.18//NONSGML v1.0//EN
CALSCALE:GREGORIAN
METHOD:PUBLISH
X-WR-CALNAME:Österreichischer Fachverband für historisches Fechten
X-ORIGINAL-URL:https://www.historischesfechten.at
X-WR-CALDESC:Veranstaltungen für Österreichischer Fachverband für historisches Fechten
REFRESH-INTERVAL;VALUE=DURATION:PT1H
X-Robots-Tag:noindex
X-PUBLISHED-TTL:PT1H
BEGIN:VTIMEZONE
TZID:Europe/Vienna
BEGIN:DAYLIGHT
TZOFFSETFROM:+0100
TZOFFSETTO:+0200
TZNAME:CEST
DTSTART:20250330T010000
END:DAYLIGHT
BEGIN:STANDARD
TZOFFSETFROM:+0200
TZOFFSETTO:+0100
TZNAME:CET
DTSTART:20251026T010000
END:STANDARD
BEGIN:DAYLIGHT
TZOFFSETFROM:+0100
TZOFFSETTO:+0200
TZNAME:CEST
DTSTART:20260329T010000
END:DAYLIGHT
BEGIN:STANDARD
TZOFFSETFROM:+0200
TZOFFSETTO:+0100
TZNAME:CET
DTSTART:20261025T010000
END:STANDARD
BEGIN:DAYLIGHT
TZOFFSETFROM:+0100
TZOFFSETTO:+0200
TZNAME:CEST
DTSTART:20270328T010000
END:DAYLIGHT
BEGIN:STANDARD
TZOFFSETFROM:+0200
TZOFFSETTO:+0100
TZNAME:CET
DTSTART:20271031T010000
END:STANDARD
END:VTIMEZONE
BEGIN:VEVENT
DTSTART;TZID=Europe/Vienna:20260719T120000
DTEND;TZID=Europe/Vienna:20260721T120000
DTSTAMP:20260421T184604
CREATED:20260305T153632Z
LAST-MODIFIED:20260305T170654Z
UID:10000013-1784462400-1784635200@www.historischesfechten.at
SUMMARY:Schwertkampflager Jugend auf der Burg Glanegg
DESCRIPTION:Die beiden Vereine INDES Feldbach und INDES Himmelberg veranstalten ein Trainingslager für Jugendliche (10 – 15 Jahre)\, die sich im historischen Ambiente einer Burg intensiv mit dem Langschwert beschäftigen möchten. Trainer:innen aus Österreich und der Schweiz werden ihr Wissen altersgerecht weitergeben und für viel Bewegung\, Spiel und Spaß sorgen. Das erwartet euch: Trainingseinheiten für Anfänger:innen und Fortgeschrittene Lagerfeuer und Spiele Übernachtung in mittelalterlichen Zelten und historischen Gewölben Trainingsgeräte aus Kunststoff bzw. Polsterschwerter werden zur Verfügung gestellt\n\n\n\nWann? So 19. Juli ab ca. 12 Uhr bis Di 21. Juli 12 Uhr (genaue Details erfolgen vor Veranstaltungsbeginn) Wo? Burgruine Glanegg Mautbrücken 1\, 9555 Mautbrücken www.burg-glanegg.at Nächster Bahnhof: BHF Feldkirchen in Kärnten oder Mautbrücken Bahnhaltestelle. Kosten: 120 € / Person (exkl. Anfahrtskosten) Es gelten die allgemeinen Stornoregelungen für INDES Veranstaltungen \n\n\n\nRücksprache bei Schwertkampf-Neulingen: \n\n\n\nDas Jugendlager ist auch offen für Jugendliche\, die noch keine Erfahrung mit dem Langschwert haben. Da es sich hierbei um eine Kampfkunst handelt\, ist ein respektvoller\, verantwortungsbewusster Umgang mit den anderen Trainierenden\, sowie die Einhaltung der vor Ort vorgegebenen Regeln und Anweisungen\, aus Sicherheitsgründen äußerst wichtig. Neue Trainierende möchten wir deshalb in erster Linie nur aus der Umgebung der Burg Glanegg zulassen\, da diese im Falle von gefährdendem Verhalten problemloser abgeholt werden können. Entsprechende Angaben sind im Anmeldeformular anzugeben und unsere Organisatoren werden sich bezüglich der Teilnahmemöglichkeit rückmelden.
URL:https://www.historischesfechten.at/event/schwertkampflager-jugend-auf-der-burg-glanegg/
LOCATION:Burgruine Glanegg\, Mautbrücken 1\, Mautbrücken\, 9555\, Austria
CATEGORIES:Jugendliche,Kinder,Nachwuchs,Trainingslager
ATTACH;FMTTYPE=image/jpeg:https://www.historischesfechten.at/wp-content/uploads/2026/03/Banner2026-scaled-1.jpg
END:VEVENT
END:VCALENDAR