BEGIN:VCALENDAR
VERSION:2.0
PRODID:-//Österreichischer Fachverband für historisches Fechten - ECPv6.15.18//NONSGML v1.0//EN
CALSCALE:GREGORIAN
METHOD:PUBLISH
X-WR-CALNAME:Österreichischer Fachverband für historisches Fechten
X-ORIGINAL-URL:https://www.historischesfechten.at
X-WR-CALDESC:Veranstaltungen für Österreichischer Fachverband für historisches Fechten
REFRESH-INTERVAL;VALUE=DURATION:PT1H
X-Robots-Tag:noindex
X-PUBLISHED-TTL:PT1H
BEGIN:VTIMEZONE
TZID:Europe/Vienna
BEGIN:DAYLIGHT
TZOFFSETFROM:+0100
TZOFFSETTO:+0200
TZNAME:CEST
DTSTART:20250330T010000
END:DAYLIGHT
BEGIN:STANDARD
TZOFFSETFROM:+0200
TZOFFSETTO:+0100
TZNAME:CET
DTSTART:20251026T010000
END:STANDARD
BEGIN:DAYLIGHT
TZOFFSETFROM:+0100
TZOFFSETTO:+0200
TZNAME:CEST
DTSTART:20260329T010000
END:DAYLIGHT
BEGIN:STANDARD
TZOFFSETFROM:+0200
TZOFFSETTO:+0100
TZNAME:CET
DTSTART:20261025T010000
END:STANDARD
BEGIN:DAYLIGHT
TZOFFSETFROM:+0100
TZOFFSETTO:+0200
TZNAME:CEST
DTSTART:20270328T010000
END:DAYLIGHT
BEGIN:STANDARD
TZOFFSETFROM:+0200
TZOFFSETTO:+0100
TZNAME:CET
DTSTART:20271031T010000
END:STANDARD
END:VTIMEZONE
BEGIN:VEVENT
DTSTART;TZID=Europe/Vienna:20260516T150000
DTEND;TZID=Europe/Vienna:20260517T170000
DTSTAMP:20260421T181337
CREATED:20260304T203036Z
LAST-MODIFIED:20260304T203038Z
UID:10000007-1778943600-1779037200@www.historischesfechten.at
SUMMARY:La Lotta dei Folli
DESCRIPTION:Was ist „La Lotta dei Folli“? \n\n\n\nUnser Vereinsevent besteht aus einem Workshoptag und einem Tag Spaßturniere. Schwerpunkt sind dabei immer die Bologneser Tradition mit all ihren Facetten und Waffen\, sowie andere historische Stile aus dem italienischen und fallweise auch aus dem iberischen Raum. Wichtig sind uns eine lockere und freundschaftliche Atmosphäre\, besonders bei den Turnieren. Daneben bieten wir auch der SaberAcademy Vienna eine Bühne\, die im Rahmen unseres Events einen Lichtschwert-Workshop und ihr jährliches Turnier abhält. \n\n\n\n„La Lotta dei Folli“ bedeutet so viel wie „Die Schlacht der Verrückten“ und ist eine Anlehnung an das „Narrenfest“ in Notre Dame de Paris von Victor Hugo – auf Italienisch „la festa dei folli“. \n\n\n\n\n\n\n\nWANN?\n\n\n\n\nSAMSTAG\, 16. Mai 2026\n\n\n\nSONNTAG\, 17. Mai 2026\n\n\n\n\nWO?\n\n\n\n\nUSZ-Hietzing\n\n\n\nAltgasse 6\, 1130 – Wien/ Österreich\n\n\n\n\nANREISE MIT ÖFFIS\n\n\n\n\nU-Bahn: U4 Hietzing\n\n\n\nStraßenbahn 10\, 49\, 52\, 60: Dommayergasse\n\n\n\nBus 56A\, 56B\, 58A\, 58B: Am Platz\n\n\n\n\n\n\n\n\nSPRACHE & VERPFLEGUNG\n\n\n\nUnsere Hauptssprache ist Deutsch\, allerdings richten wir uns dabei nach den Anmeldungen und können fallweise auch auf Englisch wechseln. Wir versorgen euch außerdem das ganze Wochenende mit Snacks und Getränken im ‚Ruheraum‘. Für Mittag- und Abendessen stehen euch zahlreiche Restaurants in unmittelbarer Nähe unserer Halle zur Verfügung wie zum Beispiel: \n\n\n\n\nWaldemar Tagesbar\, Altgasse 6 (Frühstück\, Sandwiches)\n\n\n\nBrandauer Schlossbräu\, Am Platz 5 (Hausmannskost)\n\n\n\nAkakiko\, Am Platz 3 (Asian Fusion)\n\n\n\n…\n\n\n\n\n\n\n\n\n\n\n\n\n\n\n\n\nZEITPLAN\n\n\n\nWir können aufgrund der Hallenverfügbarkeit 2026 erst am Samstagnachmittag starten und die Veranstaltung wird deshalb etwas länger in den Abend reingehen. Hier der vorläufige Zeitplan: \n\n\n\n\n\n\n\n\n\n\n\nWorkshops\n\n\n\nDer Schwerpunkt für 2026 verschiebt sich in die etwas späteren Schulen und Stile Italiens. Neben Bewaffnung geht es dieses Jahr auch um waffenloses Kämpfen. Ein Workshop zur Bologneser Schule darf aber trotzdem nicht fehlen! \n\n\n\nThe Italian Way of French Savate\n\n\n\nBarbasetti Grundlagen und Besonderheiten – Duellfechten um 1900\n\n\n\nSchwert & Dolch\n\n\n\nTurniere\n\n\n\n\n\n\n\nBei den Turnieren sollen Spaß\, Respekt voreinander und das „schöne“ Fechten im Vordergrund stehen. Sie sind informell gehalten – das heißt\, dass zum Beispiel nicht ständig Kampfleiter anwesend sein müssen. Was uns auch wichtig ist: Waffenkontrolle bzw. kontrollierte Angriffe sind unserer Meinung nach nicht nur die wichtigste Zutat für gute Schnitttechnik\, sondern auch die effektivste Maßnahme gegen Verletzungen. Anmerkung der Obfrau dazu: „Wenn ihr zu grob werdet\, schwöre ich\, ich jage euch höchstpersönlich mit einer Partesana aus der Halle! >_<“ \n\n\n\nWir legen Wert auf Sportlichkeit und Fairness. Dazu gehört auch\, dass die Kämpfer erhaltene Treffer selbstständig anzeigen. \n\n\n\nUnser Rahmenregelwerk findet ihr hier \n\n\n\nMixed Weapons – Trading Cards Fencing\n\n\n\nLightsaber Combat – SaberAcademy Vienna Tournament\n\n\n\nMixed Weapons – Two Handed\n\n\n\nDo or Die: Bolognese Single Sword\n\n\n\n\n\n\n\nPreise & Anmeldung\n\n\n\nPreise 2026:\n\n\n\n\n140€ – La Lotta dei Folli (beide Tage)\n\n\n\n100€ – La Lotta dei Folli (beide Tage\, für Mitglieder von Fior della Spada und SaberAcademy Vienna)\n\n\n\n  60€ – Lightsaber-Tournament\n\n\n\n  30€ – Einzelner Workshop (Anfrage per Email an: elisabeth@marozzo.info)\n\n\n\nFalls ihr nur den Workshoptag buchen wollt\, bitte auch Anfrage an: elisabeth@marozzo.info\n\n\n\n\nWir kalkulieren die Preise so\, dass wir mit den Teilnahmegebühren möglichst die Hallengebühren decken können. Die restlichen Kosten (Ausrüstung\, Verpflegung\, Trainer\, Kampfleiter usw.) werden von unserem Verein übernommen. Wir bieten allen unseren Trainern und Kampfleitern eine Aufwandsentschädigung an und finanzieren bei langen Anfahrten auch Fahrtkosten und Unterkunft. \n\n\n\nANMELDUNG\n\n\n\nDie Anmeldung startet am 2. Februar 2026 (Montag). Die Vergabe der Plätze und Waffenkombis erfolgt nach dem first-come-first-serve-Prinzip. \n\n\n\nStorno per Mail an elisabeth[at]marozzo.info bis einschließlich 1. Mai 2026. Danach: Bei Stornierung bis einschließlich 8. Mai erhaltet ihr 50% des erstatteten Betrages zurück\, ab dem 9. Mai ist leider keine Rückerstattung mehr möglich. Eine Ausnahme können wir im Krankheitsfall machen\, schickt uns hierzu einfach eine ärztliche Bestätigung per Mail zu. \n\n\n\nAnmeldeschluss: 1. Mai 2026\, 08:00! \n\n\n\nKontakt: elisabeth[at]marozzo.info
URL:https://www.historischesfechten.at/event/la-lotta-dei-folli/
LOCATION:USZ-Hietzing\, Altgasse 6\, Wien\, 1130\, Austria
CATEGORIES:Fechtevent,Turnier
ATTACH;FMTTYPE=image/png:https://www.historischesfechten.at/wp-content/uploads/2025/09/Corvo-1200x829-1.png
END:VEVENT
BEGIN:VEVENT
DTSTART;TZID=Europe/Vienna:20261031T083000
DTEND;TZID=Europe/Vienna:20261101T173000
DTSTAMP:20260421T181337
CREATED:20260304T204543Z
LAST-MODIFIED:20260316T064709Z
UID:10000010-1793435400-1793554200@www.historischesfechten.at
SUMMARY:Übungsleiter:in Historisches Fechten Spezialmodul
DESCRIPTION:Ziel ist es\, den zukünftigen Übungsleitern viel praxisrelevantes Know-how im Bereich Historisches Fechten mit auf den Weg zu geben. \n\n\n\nDie Inhalte des Praxismoduls sind waffenübergreifend konzipiert und sind: Spezifische Aufwärmübungen\, Interpretationsarbeit an der Quelle\, Sicherheitsaspekte\, gängige Organisationsformen\, Umgang mit typischen Problemfällen sowie Anpassung von Schwierigkeitsstufen bis hin zur Vorbereitung auf den Wettkampf. \n\n\n\nTeilnahmevoraussetzung: Mehrjährige Trainingserfahrung in Mitgliedsverein des ÖFHF (Österreichischer Fachverband für historisches Fechten) oder DDHF (Deutscher Dachverband Historischer Fechter) \n\n\n\nDie Voraussetzung für den Besuch des Spezialmoduls ist ein positiv absolviertes Basismodul. Dieses ist eigens zu buchen und wird zu unterschiedlichen Terminen in mehreren Bundesländern angeboten. (Termine HIER) \n\n\n\nZielgruppe\n\n\n\nTrainer:innen und solche die es werden wollen.Teilnahmevoraussetzung: Mehrjährige Trainingserfahrung in Mitgliedsverein des ÖFHF (Österreichischer Fachverband für historisches Fechten) oder DDHF (Deutscher Dachverband Historischer Fechter) oder SwissHema – Landesverband für historisches europäisches Fechten 
URL:https://www.historischesfechten.at/event/uebungsleiterin-historisches-fechten/
LOCATION:USZ-Hietzing\, Altgasse 6\, Wien\, 1130\, Austria
CATEGORIES:Ausbildung
ATTACH;FMTTYPE=image/jpeg:https://www.historischesfechten.at/wp-content/uploads/2026/01/Screenshot-2026-01-09-131615.jpg
ORGANIZER;CN="SPORTUNION Wien":MAILTO:akademie@sportunion-wien.at
END:VEVENT
END:VCALENDAR